BEGIN:VCALENDAR
VERSION:2.0
PRODID:icalendar-ruby
CALSCALE:GREGORIAN
METHOD:PUBLISH
BEGIN:VEVENT
DTSTAMP:20260420T043444Z
UID:348-1255724@hcc.co.nz
DTSTART:20260425T220000Z
DTEND:20260425T233000Z
CLASS:PUBLIC
CREATED:20260420T120614
DESCRIPTION:“Back to the Beginning\, reclaiming God’s original Vision f
 or Marriage”\nMark 10:1-12\nwith Merv Sandford
LAST-MODIFIED:20260420T120614
LOCATION:Howick Community Church
SUMMARY:“Back to the Beginning”
URL;VALUE=URI:https://www.hcc.co.nz/events/back-to-the-beginning--348/2026-
 04-26
ATTACH;FILENAME=CALLED---the-Gospel-of-Mark-Lamb-and-Jesus-Wallpaper.jpg;FM
 TTYPE=image/jpeg:https://dq5pwpg1q8ru0.cloudfront.net/2026/04/20/00/01/23/
 01df6319-fdb8-4faa-838d-925d6453473c/CALLED---the-Gospel-of-Mark-Lamb-and-
 Jesus-Wallpaper.jpg
END:VEVENT
END:VCALENDAR
