BEGIN:VCALENDAR
VERSION:2.0
PRODID:icalendar-ruby
CALSCALE:GREGORIAN
METHOD:PUBLISH
BEGIN:VEVENT
DTSTAMP:20260421T082418Z
UID:346-1228749@hcc.co.nz
DTSTART:20260419T053000Z
DTEND:20260419T063000Z
CLASS:PUBLIC
CREATED:20260413T162055
DESCRIPTION:Due to the weather warning this past Sunday\, our Encounter Eve
 ning will now take place on Sunday\, 19 April from 5:30 to 6:30 PM.\nAll w
 elcome!
LAST-MODIFIED:20260413T162055
LOCATION:Howick Community Church
SUMMARY:Encounter Evening
URL;VALUE=URI:https://www.hcc.co.nz/events/encounter-evening--346/2026-04-1
 9
ATTACH;FILENAME=Encounter-Evening-Wallpaper.jpg;FMTTYPE=image/jpeg:https://
 dq5pwpg1q8ru0.cloudfront.net/2026/04/13/04/20/54/1f9295da-2f2a-4b1f-8e38-8
 ccab3bb4c00/Encounter-Evening-Wallpaper.jpg
END:VEVENT
END:VCALENDAR
